BEGIN:VCALENDAR
VERSION:2.0
PRODID:-//wp-events-plugin.com//7.2.3.1//EN
TZID:Europe/Amsterdam
X-WR-TIMEZONE:Europe/Amsterdam
BEGIN:VEVENT
UID:0-101@sv-awater.nl
DTSTART;TZID=Europe/Amsterdam;VALUE=DATE:20260429
DTEND;TZID=Europe/Amsterdam;VALUE=DATE:20260430
DTSTAMP:20260421T114312Z
URL:https://sv-awater.nl/events/relevancie-symposium/
SUMMARY:RelevanCie - Symposium
DESCRIPTION:Lieve Awateraars\,\n\nBen jij benieuwd naar hoe hokjesdenken en
  het gebruiken van voornaamwoorden de LGBTQI+ gemeenschap kan helpen en in
  de weg kan zitten? Wil je weten hoe gendermarkers doorwerken in genitaal 
 taalgebruik? En wil jij weten hoe gender taalgebruik per land en taal vers
 chilt? Op woensdag 29 april vindt een symposium plaats\, georganiseerd doo
 r SV Awater en SV Versatile! Drie sprekers zullen ons gedurende de avond m
 eer vertellen over regenboogtaalkunde en wat voor impact dit op de maatsch
 appij heeft. Het symposium zal plaatsvinden in de Boothzaal in de Universi
 teitsbibliotheek op het Sciene Park. De inloop is vanaf 19:00u\, we beginn
 en om 19:15u en het zal rond 21:30u klaar zijn. Er zullen ook drankjes en 
 wat snacks zijn\, om nog gezellig na te kletsen! 🌈🌈\n\nVoor leden va
 n SV Awater en SV Versatile is het gratis en voor externen kost het sympos
 ium €2\,50.\n\nNeem je vrienden dus mee en hopelijk zien we jullie daar!
 \n\nLiefs\,\n\nSV Awater 🧡 en SV Versatile 💙\n\nJe aanmelding is bev
 estigd zodra je een mailtje ontvangt. Wil je je afmelden? Doe dit dan mini
 maal 48 uur van tevoren door te mailen naar secretaris@svversatile.nl.\n\n
 Bij deze activiteit zal vooral gezeten worden en is fysiek dus niet erg in
 spannend. Als je meer informatie wil over de fysieke inspanning kan je mai
 len naar secretaris@svversatile.nl.\n\nVoor de snelle lezer\,\nWat: Sympos
 ium over Regenboogtaal 🌈\nWanneer: Woensdag 29 april\nWaar: Boothzaal i
 n de Universiteitsbibliotheek op het Science Park\nHoelaat: inloop vanaf 1
 9:00\,19:15 - 21:30.\nPrijs: Voor leden gratis\, voor externen €2\,50\n\
 nSchrijf je in via: https://leden.svversatile.nl/evenementen/symposium-ove
 r-regenboogtaal
ATTACH;FMTTYPE=image/jpeg:https://sv-awater.nl/wp-content/uploads/sites/46
 8/2026/04/Screenshot-2026-04-21-at-13.42.20.jpg
END:VEVENT
BEGIN:VTIMEZONE
TZID:Europe/Amsterdam
X-LIC-LOCATION:Europe/Amsterdam
BEGIN:DAYLIGHT
DTSTART:20260329T030000
TZOFFSETFROM:+0100
TZOFFSETTO:+0200
TZNAME:CEST
END:DAYLIGHT
END:VTIMEZONE
END:VCALENDAR