BEGIN:VCALENDAR
VERSION:2.0
PRODID:-//wp-events-plugin.com//7.2.3.1//EN
TZID:Europe/Amsterdam
X-WR-TIMEZONE:Europe/Amsterdam
BEGIN:VEVENT
UID:0-102@sv-awater.nl
DTSTART;TZID=Europe/Amsterdam;VALUE=DATE:20260507
DTEND;TZID=Europe/Amsterdam;VALUE=DATE:20260508
DTSTAMP:20260424T142507Z
URL:https://sv-awater.nl/events/litcie-literaire-avond/
SUMMARY:LitCie - Literaire Avond
DESCRIPTION:Lieve Awateraars\,\n\nVind je het leuk om gedichtjes\, short-st
 ories of andere tekstjes te schrijven? Of lees je ze juist graag? Kom je f
 avoriete werken delen tijdens de Literaire Avond in Savannah Bay! Het mag 
 zelfgeschreven zijn\, maar je mag ook iets voorlezen van andere auteurs.\n
 Samen met andere Awateraars kan je je liefde voor het geschreven woord del
 en. Iedereen is ook welkom om te luisteren naar de creaties of favoriete w
 erken van je mede-Awateraars.\nHet wordt een gezellige\, inspirerende avon
 d met GRATIS TAART\, dus neem een kussentje mee en kom 7 mei naar Savannah
  Bay!\n\nLiefs\,\nDe LitCie\n\n&nbsp\;\n\n[formidable id="22"]
ATTACH;FMTTYPE=image/jpeg:https://sv-awater.nl/wp-content/uploads/sites/46
 8/2026/04/LitCie.jpg
END:VEVENT
BEGIN:VTIMEZONE
TZID:Europe/Amsterdam
X-LIC-LOCATION:Europe/Amsterdam
BEGIN:DAYLIGHT
DTSTART:20260329T030000
TZOFFSETFROM:+0100
TZOFFSETTO:+0200
TZNAME:CEST
END:DAYLIGHT
END:VTIMEZONE
END:VCALENDAR